BEGIN:VCALENDAR
VERSION:2.0
PRODID:-//Patrick&#039;s Grille - ECPv6.15.20//NONSGML v1.0//EN
CALSCALE:GREGORIAN
METHOD:PUBLISH
X-ORIGINAL-URL:https://patricksgrille.com
X-WR-CALDESC:Events for Patrick&#039;s Grille
REFRESH-INTERVAL;VALUE=DURATION:PT1H
X-Robots-Tag:noindex
X-PUBLISHED-TTL:PT1H
BEGIN:VTIMEZONE
TZID:America/Chicago
BEGIN:DAYLIGHT
TZOFFSETFROM:-0600
TZOFFSETTO:-0500
TZNAME:CDT
DTSTART:20250309T080000
END:DAYLIGHT
BEGIN:STANDARD
TZOFFSETFROM:-0500
TZOFFSETTO:-0600
TZNAME:CST
DTSTART:20251102T070000
END:STANDARD
BEGIN:DAYLIGHT
TZOFFSETFROM:-0600
TZOFFSETTO:-0500
TZNAME:CDT
DTSTART:20260308T080000
END:DAYLIGHT
BEGIN:STANDARD
TZOFFSETFROM:-0500
TZOFFSETTO:-0600
TZNAME:CST
DTSTART:20261101T070000
END:STANDARD
BEGIN:DAYLIGHT
TZOFFSETFROM:-0600
TZOFFSETTO:-0500
TZNAME:CDT
DTSTART:20270314T080000
END:DAYLIGHT
BEGIN:STANDARD
TZOFFSETFROM:-0500
TZOFFSETTO:-0600
TZNAME:CST
DTSTART:20271107T070000
END:STANDARD
END:VTIMEZONE
BEGIN:VEVENT
DTSTART;VALUE=DATE:20260101
DTEND;VALUE=DATE:20260102
DTSTAMP:20260425T093433
CREATED:20251202T232854Z
LAST-MODIFIED:20251202T232938Z
UID:946-1767225600-1767311999@patricksgrille.com
SUMMARY:Closed for New Years Day
DESCRIPTION:Patrick’s Grille will be closed all of\, Thursday\, January 1st\, 2026. \nWe will be open for our the rest of the week\, including New Year’s Eve for our New Year’s Eve Dinner Service \n(New Years Eve Hours: 4pm till 9pm)
URL:https://patricksgrille.com/event/closed-for-new-years-day-2026/
END:VEVENT
END:VCALENDAR