BEGIN:VCALENDAR
VERSION:2.0
PRODID:-//Patrick&#039;s Grille - ECPv6.15.20//NONSGML v1.0//EN
CALSCALE:GREGORIAN
METHOD:PUBLISH
X-WR-CALNAME:Patrick&#039;s Grille
X-ORIGINAL-URL:https://patricksgrille.com
X-WR-CALDESC:Events for Patrick&#039;s Grille
REFRESH-INTERVAL;VALUE=DURATION:PT1H
X-Robots-Tag:noindex
X-PUBLISHED-TTL:PT1H
BEGIN:VTIMEZONE
TZID:America/Chicago
BEGIN:DAYLIGHT
TZOFFSETFROM:-0600
TZOFFSETTO:-0500
TZNAME:CDT
DTSTART:20240310T080000
END:DAYLIGHT
BEGIN:STANDARD
TZOFFSETFROM:-0500
TZOFFSETTO:-0600
TZNAME:CST
DTSTART:20241103T070000
END:STANDARD
BEGIN:DAYLIGHT
TZOFFSETFROM:-0600
TZOFFSETTO:-0500
TZNAME:CDT
DTSTART:20250309T080000
END:DAYLIGHT
BEGIN:STANDARD
TZOFFSETFROM:-0500
TZOFFSETTO:-0600
TZNAME:CST
DTSTART:20251102T070000
END:STANDARD
BEGIN:DAYLIGHT
TZOFFSETFROM:-0600
TZOFFSETTO:-0500
TZNAME:CDT
DTSTART:20260308T080000
END:DAYLIGHT
BEGIN:STANDARD
TZOFFSETFROM:-0500
TZOFFSETTO:-0600
TZNAME:CST
DTSTART:20261101T070000
END:STANDARD
END:VTIMEZONE
BEGIN:VEVENT
DTSTART;TZID=America/Chicago:20251224T130000
DTEND;TZID=America/Chicago:20251224T170000
DTSTAMP:20260422T061239
CREATED:20251202T230534Z
LAST-MODIFIED:20251202T230534Z
UID:937-1766581200-1766595600@patricksgrille.com
SUMMARY:Christmas Eve Dinner
DESCRIPTION:Join us for Christmas Eve as we celebrate the holidays with our community. \nWednesday\, December 24th\, 2025 we’ll be enjoying an all you can eat dinner buffet. From 1pm till 5pm\, enjoy your favorite Patrick’s Grille dishes\, along with our specialty holiday beverages. \nReserve your spot ahead of time to ensure you can spend this special evening with us. \nCall (219) 873-9401  /  Find more information on our FaceBook Page
URL:https://patricksgrille.com/event/christmas-eve-dinner-2025/
ATTACH;FMTTYPE=image/jpeg:https://patricksgrille.com/wp-content/uploads/2025/12/Christmas-Eve-2025.jpg
END:VEVENT
END:VCALENDAR